{"text_format":"1","workbook":"xlsx","n_sheets":3,"sheets":["Shopping","Stock","Lists"],"not_rendered":{"charts":0,"images":0,"macros":1,"external_links":0,"defined_names":0,"comments":1,"pivot_tables":0},"unopened":[],"bounds":{"document_bytes":16777216,"sheet_cells":100000,"rows_first":2000,"rows_last":500,"rows_between":2000,"halvings":0,"cell_chars":16384,"cell_head_chars":4096},"cells_cut":0,"cells_raw":0,"read":"whole","date_system":"1900"}

{"sheet":"Shopping","index":0,"n_rows":207,"n_cols":6,"rows_kept":207,"cut":false,"hidden":false,"merged":[[1,1,3,4],[1,5,3,5]]}
[]
[null,"Shopping List",null,null,null,"SORT BUTTONS"]
[]
[]
[]
[null,"Product List","Available From","gm / ml","Shop"]
[null,{"$f":"Stock!B74","v":"Black Pepper Whole"},{"$f":"Stock!H74","v":"The Spice Rack"},{"$f":"IF(Stock!C74=\"-\",IF(Stock!D74>0,Stock!D74,\"-\"),Stock!C74)","v":25},{"$f":"IF(Stock!$F74<=Stock!$G74,0,1)","v":1}]
[null,{"$f":"Stock!B22","v":"Oil Olive"},{"$f":"Stock!H22","v":"Lidl"},{"$f":"IF(Stock!C22=\"-\",IF(Stock!D22>0,Stock!D22,\"-\"),Stock!C22)","v":200},{"$f":"IF(Stock!$F22<=Stock!$G22,0,1)","v":0}]
[null,{"$f":"Stock!B41","v":"Biscuits Various"},{"$f":"Stock!H41","v":"Sainsbury"},{"$f":"IF(Stock!C41=\"-\",IF(Stock!D41>0,Stock!D41,\"-\"),Stock!C41)","v":"-"},{"$f":"IF(Stock!$F41<=Stock!$G41,0,1)","v":1}]
[null,{"$f":"Stock!B77","v":"Bread Rolls X12"},{"$f":"Stock!H77","v":"Toms Bakery"},{"$f":"IF(Stock!C77=\"-\",IF(Stock!D77>0,Stock!D77,\"-\"),Stock!C77)","v":"-"},{"$f":"IF(Stock!$F77<=Stock!$G77,0,1)","v":1}]
[null,{"$f":"Stock!B78","v":"French Stick"},{"$f":"Stock!H78","v":"Toms Bakery"},{"$f":"IF(Stock!C78=\"-\",IF(Stock!D78>0,Stock!D78,\"-\"),Stock!C78)","v":"-"},{"$f":"IF(Stock!$F78<=Stock!$G78,0,1)","v":1}]
[null,{"$f":"Stock!B79","v":0},{"$f":"Stock!H79","v":0},{"$f":"IF(Stock!C79=\"-\",IF(Stock!D79>0,Stock!D79,\"-\"),Stock!C79)","v":"-"},{"$f":"IF(Stock!$F79<=Stock!$G79,0,1)","v":1}]
[null,{"$f":"Stock!B80","v":0},{"$f":"Stock!H80","v":0},{"$f":"IF(Stock!C80=\"-\",IF(Stock!D80>0,Stock!D80,\"-\"),Stock!C80)","v":"-"},{"$f":"IF(Stock!$F80<=Stock!$G80,0,1)","v":1}]
[null,{"$f":"Stock!B81","v":0},{"$f":"Stock!H81","v":0},{"$f":"IF(Stock!C81=\"-\",IF(Stock!D81>0,Stock!D81,\"-\"),Stock!C81)","v":"-"},{"$f":"IF(Stock!$F81<=Stock!$G81,0,1)","v":1}]
[null,{"$f":"Stock!B82","v":0},{"$f":"Stock!H82","v":0},{"$f":"IF(Stock!C82=\"-\",IF(Stock!D82>0,Stock!D82,\"-\"),Stock!C82)","v":"-"},{"$f":"IF(Stock!$F82<=Stock!$G82,0,1)","v":1}]
[null,{"$f":"Stock!B83","v":0},{"$f":"Stock!H83","v":0},{"$f":"IF(Stock!C83=\"-\",IF(Stock!D83>0,Stock!D83,\"-\"),Stock!C83)","v":"-"},{"$f":"IF(Stock!$F83<=Stock!$G83,0,1)","v":1}]
[null,{"$f":"Stock!B84","v":0},{"$f":"Stock!H84","v":0},{"$f":"IF(Stock!C84=\"-\",IF(Stock!D84>0,Stock!D84,\"-\"),Stock!C84)","v":"-"},{"$f":"IF(Stock!$F84<=Stock!$G84,0,1)","v":1}]
[null,{"$f":"Stock!B85","v":0},{"$f":"Stock!H85","v":0},{"$f":"IF(Stock!C85=\"-\",IF(Stock!D85>0,Stock!D85,\"-\"),Stock!C85)","v":"-"},{"$f":"IF(Stock!$F85<=Stock!$G85,0,1)","v":1}]
[null,{"$f":"Stock!B86","v":0},{"$f":"Stock!H86","v":0},{"$f":"IF(Stock!C86=\"-\",IF(Stock!D86>0,Stock!D86,\"-\"),Stock!C86)","v":"-"},{"$f":"IF(Stock!$F86<=Stock!$G86,0,1)","v":1}]
[null,{"$f":"Stock!B87","v":0},{"$f":"Stock!H87","v":0},{"$f":"IF(Stock!C87=\"-\",IF(Stock!D87>0,Stock!D87,\"-\"),Stock!C87)","v":"-"},{"$f":"IF(Stock!$F87<=Stock!$G87,0,1)","v":1}]
[null,{"$f":"Stock!B88","v":0},{"$f":"Stock!H88","v":0},{"$f":"IF(Stock!C88=\"-\",IF(Stock!D88>0,Stock!D88,\"-\"),Stock!C88)","v":"-"},{"$f":"IF(Stock!$F88<=Stock!$G88,0,1)","v":1}]
[null,{"$f":"Stock!B89","v":0},{"$f":"Stock!H89","v":0},{"$f":"IF(Stock!C89=\"-\",IF(Stock!D89>0,Stock!D89,\"-\"),Stock!C89)","v":"-"},{"$f":"IF(Stock!$F89<=Stock!$G89,0,1)","v":1}]
[null,{"$f":"Stock!B90","v":0},{"$f":"Stock!H90","v":0},{"$f":"IF(Stock!C90=\"-\",IF(Stock!D90>0,Stock!D90,\"-\"),Stock!C90)","v":"-"},{"$f":"IF(Stock!$F90<=Stock!$G90,0,1)","v":1}]
[null,{"$f":"Stock!B91","v":0},{"$f":"Stock!H91","v":0},{"$f":"IF(Stock!C91=\"-\",IF(Stock!D91>0,Stock!D91,\"-\"),Stock!C91)","v":"-"},{"$f":"IF(Stock!$F91<=Stock!$G91,0,1)","v":1}]
[null,{"$f":"Stock!B92","v":0},{"$f":"Stock!H92","v":0},{"$f":"IF(Stock!C92=\"-\",IF(Stock!D92>0,Stock!D92,\"-\"),Stock!C92)","v":"-"},{"$f":"IF(Stock!$F92<=Stock!$G92,0,1)","v":1}]
[null,{"$f":"Stock!B93","v":0},{"$f":"Stock!H93","v":0},{"$f":"IF(Stock!C93=\"-\",IF(Stock!D93>0,Stock!D93,\"-\"),Stock!C93)","v":"-"},{"$f":"IF(Stock!$F93<=Stock!$G93,0,1)","v":1}]
[null,{"$f":"Stock!B94","v":0},{"$f":"Stock!H94","v":0},{"$f":"IF(Stock!C94=\"-\",IF(Stock!D94>0,Stock!D94,\"-\"),Stock!C94)","v":"-"},{"$f":"IF(Stock!$F94<=Stock!$G94,0,1)","v":1}]
[null,{"$f":"Stock!B95","v":0},{"$f":"Stock!H95","v":0},{"$f":"IF(Stock!C95=\"-\",IF(Stock!D95>0,Stock!D95,\"-\"),Stock!C95)","v":"-"},{"$f":"IF(Stock!$F95<=Stock!$G95,0,1)","v":1}]
[null,{"$f":"Stock!B96","v":0},{"$f":"Stock!H96","v":0},{"$f":"IF(Stock!C96=\"-\",IF(Stock!D96>0,Stock!D96,\"-\"),Stock!C96)","v":"-"},{"$f":"IF(Stock!$F96<=Stock!$G96,0,1)","v":1}]
[null,{"$f":"Stock!B97","v":0},{"$f":"Stock!H97","v":0},{"$f":"IF(Stock!C97=\"-\",IF(Stock!D97>0,Stock!D97,\"-\"),Stock!C97)","v":"-"},{"$f":"IF(Stock!$F97<=Stock!$G97,0,1)","v":1}]
[null,{"$f":"Stock!B98","v":0},{"$f":"Stock!H98","v":0},{"$f":"IF(Stock!C98=\"-\",IF(Stock!D98>0,Stock!D98,\"-\"),Stock!C98)","v":"-"},{"$f":"IF(Stock!$F98<=Stock!$G98,0,1)","v":1}]
[null,{"$f":"Stock!B99","v":0},{"$f":"Stock!H99","v":0},{"$f":"IF(Stock!C99=\"-\",IF(Stock!D99>0,Stock!D99,\"-\"),Stock!C99)","v":"-"},{"$f":"IF(Stock!$F99<=Stock!$G99,0,1)","v":1}]
[null,{"$f":"Stock!B100","v":0},{"$f":"Stock!H100","v":0},{"$f":"IF(Stock!C100=\"-\",IF(Stock!D100>0,Stock!D100,\"-\"),Stock!C100)","v":"-"},{"$f":"IF(Stock!$F100<=Stock!$G100,0,1)","v":1}]
[null,{"$f":"Stock!B101","v":0},{"$f":"Stock!H101","v":0},{"$f":"IF(Stock!C101=\"-\",IF(Stock!D101>0,Stock!D101,\"-\"),Stock!C101)","v":"-"},{"$f":"IF(Stock!$F101<=Stock!$G101,0,1)","v":1}]
[null,{"$f":"Stock!B102","v":0},{"$f":"Stock!H102","v":0},{"$f":"IF(Stock!C102=\"-\",IF(Stock!D102>0,Stock!D102,\"-\"),Stock!C102)","v":"-"},{"$f":"IF(Stock!$F102<=Stock!$G102,0,1)","v":1}]
[null,{"$f":"Stock!B103","v":0},{"$f":"Stock!H103","v":0},{"$f":"IF(Stock!C103=\"-\",IF(Stock!D103>0,Stock!D103,\"-\"),Stock!C103)","v":"-"},{"$f":"IF(Stock!$F103<=Stock!$G103,0,1)","v":1}]
[null,{"$f":"Stock!B104","v":0},{"$f":"Stock!H104","v":0},{"$f":"IF(Stock!C104=\"-\",IF(Stock!D104>0,Stock!D104,\"-\"),Stock!C104)","v":"-"},{"$f":"IF(Stock!$F104<=Stock!$G104,0,1)","v":1}]
[null,{"$f":"Stock!B105","v":0},{"$f":"Stock!H105","v":0},{"$f":"IF(Stock!C105=\"-\",IF(Stock!D105>0,Stock!D105,\"-\"),Stock!C105)","v":"-"},{"$f":"IF(Stock!$F105<=Stock!$G105,0,1)","v":1}]
[null,{"$f":"Stock!B106","v":0},{"$f":"Stock!H106","v":0},{"$f":"IF(Stock!C106=\"-\",IF(Stock!D106>0,Stock!D106,\"-\"),Stock!C106)","v":"-"},{"$f":"IF(Stock!$F106<=Stock!$G106,0,1)","v":1}]
[null,{"$f":"Stock!B107","v":0},{"$f":"Stock!H107","v":0},{"$f":"IF(Stock!C107=\"-\",IF(Stock!D107>0,Stock!D107,\"-\"),Stock!C107)","v":"-"},{"$f":"IF(Stock!$F107<=Stock!$G107,0,1)","v":1}]
[null,{"$f":"Stock!B108","v":0},{"$f":"Stock!H108","v":0},{"$f":"IF(Stock!C108=\"-\",IF(Stock!D108>0,Stock!D108,\"-\"),Stock!C108)","v":"-"},{"$f":"IF(Stock!$F108<=Stock!$G108,0,1)","v":1}]
[null,{"$f":"Stock!B109","v":0},{"$f":"Stock!H109","v":0},{"$f":"IF(Stock!C109=\"-\",IF(Stock!D109>0,Stock!D109,\"-\"),Stock!C109)","v":"-"},{"$f":"IF(Stock!$F109<=Stock!$G109,0,1)","v":1}]
[null,{"$f":"Stock!B110","v":0},{"$f":"Stock!H110","v":0},{"$f":"IF(Stock!C110=\"-\",IF(Stock!D110>0,Stock!D110,\"-\"),Stock!C110)","v":"-"},{"$f":"IF(Stock!$F110<=Stock!$G110,0,1)","v":1}]
[null,{"$f":"Stock!B111","v":0},{"$f":"Stock!H111","v":0},{"$f":"IF(Stock!C111=\"-\",IF(Stock!D111>0,Stock!D111,\"-\"),Stock!C111)","v":"-"},{"$f":"IF(Stock!$F111<=Stock!$G111,0,1)","v":1}]
[null,{"$f":"Stock!B112","v":0},{"$f":"Stock!H112","v":0},{"$f":"IF(Stock!C112=\"-\",IF(Stock!D112>0,Stock!D112,\"-\"),Stock!C112)","v":"-"},{"$f":"IF(Stock!$F112<=Stock!$G112,0,1)","v":1}]
[null,{"$f":"Stock!B113","v":0},{"$f":"Stock!H113","v":0},{"$f":"IF(Stock!C113=\"-\",IF(Stock!D113>0,Stock!D113,\"-\"),Stock!C113)","v":"-"},{"$f":"IF(Stock!$F113<=Stock!$G113,0,1)","v":1}]
[null,{"$f":"Stock!B114","v":0},{"$f":"Stock!H114","v":0},{"$f":"IF(Stock!C114=\"-\",IF(Stock!D114>0,Stock!D114,\"-\"),Stock!C114)","v":"-"},{"$f":"IF(Stock!$F114<=Stock!$G114,0,1)","v":1}]
[null,{"$f":"Stock!B115","v":0},{"$f":"Stock!H115","v":0},{"$f":"IF(Stock!C115=\"-\",IF(Stock!D115>0,Stock!D115,\"-\"),Stock!C115)","v":"-"},{"$f":"IF(Stock!$F115<=Stock!$G115,0,1)","v":1}]
[null,{"$f":"Stock!B116","v":0},{"$f":"Stock!H116","v":0},{"$f":"IF(Stock!C116=\"-\",IF(Stock!D116>0,Stock!D116,\"-\"),Stock!C116)","v":"-"},{"$f":"IF(Stock!$F116<=Stock!$G116,0,1)","v":1}]
[null,{"$f":"Stock!B117","v":0},{"$f":"Stock!H117","v":0},{"$f":"IF(Stock!C117=\"-\",IF(Stock!D117>0,Stock!D117,\"-\"),Stock!C117)","v":"-"},{"$f":"IF(Stock!$F117<=Stock!$G117,0,1)","v":1}]
[null,{"$f":"Stock!B118","v":0},{"$f":"Stock!H118","v":0},{"$f":"IF(Stock!C118=\"-\",IF(Stock!D118>0,Stock!D118,\"-\"),Stock!C118)","v":"-"},{"$f":"IF(Stock!$F118<=Stock!$G118,0,1)","v":1}]
[null,{"$f":"Stock!B119","v":0},{"$f":"Stock!H119","v":0},{"$f":"IF(Stock!C119=\"-\",IF(Stock!D119>0,Stock!D119,\"-\"),Stock!C119)","v":"-"},{"$f":"IF(Stock!$F119<=Stock!$G119,0,1)","v":1}]
[null,{"$f":"Stock!B120","v":0},{"$f":"Stock!H120","v":0},{"$f":"IF(Stock!C120=\"-\",IF(Stock!D120>0,Stock!D120,\"-\"),Stock!C120)","v":"-"},{"$f":"IF(Stock!$F120<=Stock!$G120,0,1)","v":1}]
[null,{"$f":"Stock!B121","v":0},{"$f":"Stock!H121","v":0},{"$f":"IF(Stock!C121=\"-\",IF(Stock!D121>0,Stock!D121,\"-\"),Stock!C121)","v":"-"},{"$f":"IF(Stock!$F121<=Stock!$G121,0,1)","v":1}]
[null,{"$f":"Stock!B122","v":0},{"$f":"Stock!H122","v":0},{"$f":"IF(Stock!C122=\"-\",IF(Stock!D122>0,Stock!D122,\"-\"),Stock!C122)","v":"-"},{"$f":"IF(Stock!$F122<=Stock!$G122,0,1)","v":1}]
[null,{"$f":"Stock!B123","v":0},{"$f":"Stock!H123","v":0},{"$f":"IF(Stock!C123=\"-\",IF(Stock!D123>0,Stock!D123,\"-\"),Stock!C123)","v":"-"},{"$f":"IF(Stock!$F123<=Stock!$G123,0,1)","v":1}]
[null,{"$f":"Stock!B124","v":0},{"$f":"Stock!H124","v":0},{"$f":"IF(Stock!C124=\"-\",IF(Stock!D124>0,Stock!D124,\"-\"),Stock!C124)","v":"-"},{"$f":"IF(Stock!$F124<=Stock!$G124,0,1)","v":1}]
[null,{"$f":"Stock!B125","v":0},{"$f":"Stock!H125","v":0},{"$f":"IF(Stock!C125=\"-\",IF(Stock!D125>0,Stock!D125,\"-\"),Stock!C125)","v":"-"},{"$f":"IF(Stock!$F125<=Stock!$G125,0,1)","v":1}]
[null,{"$f":"Stock!B126","v":0},{"$f":"Stock!H126","v":0},{"$f":"IF(Stock!C126=\"-\",IF(Stock!D126>0,Stock!D126,\"-\"),Stock!C126)","v":"-"},{"$f":"IF(Stock!$F126<=Stock!$G126,0,1)","v":1}]
[null,{"$f":"Stock!B127","v":0},{"$f":"Stock!H127","v":0},{"$f":"IF(Stock!C127=\"-\",IF(Stock!D127>0,Stock!D127,\"-\"),Stock!C127)","v":"-"},{"$f":"IF(Stock!$F127<=Stock!$G127,0,1)","v":1}]
[null,{"$f":"Stock!B128","v":0},{"$f":"Stock!H128","v":0},{"$f":"IF(Stock!C128=\"-\",IF(Stock!D128>0,Stock!D128,\"-\"),Stock!C128)","v":"-"},{"$f":"IF(Stock!$F128<=Stock!$G128,0,1)","v":1}]
[null,{"$f":"Stock!B129","v":0},{"$f":"Stock!H129","v":0},{"$f":"IF(Stock!C129=\"-\",IF(Stock!D129>0,Stock!D129,\"-\"),Stock!C129)","v":"-"},{"$f":"IF(Stock!$F129<=Stock!$G129,0,1)","v":1}]
[null,{"$f":"Stock!B130","v":0},{"$f":"Stock!H130","v":0},{"$f":"IF(Stock!C130=\"-\",IF(Stock!D130>0,Stock!D130,\"-\"),Stock!C130)","v":"-"},{"$f":"IF(Stock!$F130<=Stock!$G130,0,1)","v":1}]
[null,{"$f":"Stock!B131","v":0},{"$f":"Stock!H131","v":0},{"$f":"IF(Stock!C131=\"-\",IF(Stock!D131>0,Stock!D131,\"-\"),Stock!C131)","v":"-"},{"$f":"IF(Stock!$F131<=Stock!$G131,0,1)","v":1}]
[null,{"$f":"Stock!B132","v":0},{"$f":"Stock!H132","v":0},{"$f":"IF(Stock!C132=\"-\",IF(Stock!D132>0,Stock!D132,\"-\"),Stock!C132)","v":"-"},{"$f":"IF(Stock!$F132<=Stock!$G132,0,1)","v":1}]
[null,{"$f":"Stock!B133","v":0},{"$f":"Stock!H133","v":0},{"$f":"IF(Stock!C133=\"-\",IF(Stock!D133>0,Stock!D133,\"-\"),Stock!C133)","v":"-"},{"$f":"IF(Stock!$F133<=Stock!$G133,0,1)","v":1}]
[null,{"$f":"Stock!B134","v":0},{"$f":"Stock!H134","v":0},{"$f":"IF(Stock!C134=\"-\",IF(Stock!D134>0,Stock!D134,\"-\"),Stock!C134)","v":"-"},{"$f":"IF(Stock!$F134<=Stock!$G134,0,1)","v":1}]
[null,{"$f":"Stock!B135","v":0},{"$f":"Stock!H135","v":0},{"$f":"IF(Stock!C135=\"-\",IF(Stock!D135>0,Stock!D135,\"-\"),Stock!C135)","v":"-"},{"$f":"IF(Stock!$F135<=Stock!$G135,0,1)","v":1}]
[null,{"$f":"Stock!B136","v":0},{"$f":"Stock!H136","v":0},{"$f":"IF(Stock!C136=\"-\",IF(Stock!D136>0,Stock!D136,\"-\"),Stock!C136)","v":"-"},{"$f":"IF(Stock!$F136<=Stock!$G136,0,1)","v":1}]
[null,{"$f":"Stock!B137","v":0},{"$f":"Stock!H137","v":0},{"$f":"IF(Stock!C137=\"-\",IF(Stock!D137>0,Stock!D137,\"-\"),Stock!C137)","v":"-"},{"$f":"IF(Stock!$F137<=Stock!$G137,0,1)","v":1}]
[null,{"$f":"Stock!B138","v":0},{"$f":"Stock!H138","v":0},{"$f":"IF(Stock!C138=\"-\",IF(Stock!D138>0,Stock!D138,\"-\"),Stock!C138)","v":"-"},{"$f":"IF(Stock!$F138<=Stock!$G138,0,1)","v":1}]
[null,{"$f":"Stock!B139","v":0},{"$f":"Stock!H139","v":0},{"$f":"IF(Stock!C139=\"-\",IF(Stock!D139>0,Stock!D139,\"-\"),Stock!C139)","v":"-"},{"$f":"IF(Stock!$F139<=Stock!$G139,0,1)","v":1}]
[null,{"$f":"Stock!B140","v":0},{"$f":"Stock!H140","v":0},{"$f":"IF(Stock!C140=\"-\",IF(Stock!D140>0,Stock!D140,\"-\"),Stock!C140)","v":"-"},{"$f":"IF(Stock!$F140<=Stock!$G140,0,1)","v":1}]
[null,{"$f":"Stock!B141","v":0},{"$f":"Stock!H141","v":0},{"$f":"IF(Stock!C141=\"-\",IF(Stock!D141>0,Stock!D141,\"-\"),Stock!C141)","v":"-"},{"$f":"IF(Stock!$F141<=Stock!$G141,0,1)","v":1}]
[null,{"$f":"Stock!B142","v":0},{"$f":"Stock!H142","v":0},{"$f":"IF(Stock!C142=\"-\",IF(Stock!D142>0,Stock!D142,\"-\"),Stock!C142)","v":"-"},{"$f":"IF(Stock!$F142<=Stock!$G142,0,1)","v":1}]
[null,{"$f":"Stock!B143","v":0},{"$f":"Stock!H143","v":0},{"$f":"IF(Stock!C143=\"-\",IF(Stock!D143>0,Stock!D143,\"-\"),Stock!C143)","v":"-"},{"$f":"IF(Stock!$F143<=Stock!$G143,0,1)","v":1}]
[null,{"$f":"Stock!B144","v":0},{"$f":"Stock!H144","v":0},{"$f":"IF(Stock!C144=\"-\",IF(Stock!D144>0,Stock!D144,\"-\"),Stock!C144)","v":"-"},{"$f":"IF(Stock!$F144<=Stock!$G144,0,1)","v":1}]
[null,{"$f":"Stock!B145","v":0},{"$f":"Stock!H145","v":0},{"$f":"IF(Stock!C145=\"-\",IF(Stock!D145>0,Stock!D145,\"-\"),Stock!C145)","v":"-"},{"$f":"IF(Stock!$F145<=Stock!$G145,0,1)","v":1}]
[null,{"$f":"Stock!B146","v":0},{"$f":"Stock!H146","v":0},{"$f":"IF(Stock!C146=\"-\",IF(Stock!D146>0,Stock!D146,\"-\"),Stock!C146)","v":"-"},{"$f":"IF(Stock!$F146<=Stock!$G146,0,1)","v":1}]
[null,{"$f":"Stock!B147","v":0},{"$f":"Stock!H147","v":0},{"$f":"IF(Stock!C147=\"-\",IF(Stock!D147>0,Stock!D147,\"-\"),Stock!C147)","v":"-"},{"$f":"IF(Stock!$F147<=Stock!$G147,0,1)","v":1}]
[null,{"$f":"Stock!B148","v":0},{"$f":"Stock!H148","v":0},{"$f":"IF(Stock!C148=\"-\",IF(Stock!D148>0,Stock!D148,\"-\"),Stock!C148)","v":"-"},{"$f":"IF(Stock!$F148<=Stock!$G148,0,1)","v":1}]
[null,{"$f":"Stock!B149","v":0},{"$f":"Stock!H149","v":0},{"$f":"IF(Stock!C149=\"-\",IF(Stock!D149>0,Stock!D149,\"-\"),Stock!C149)","v":"-"},{"$f":"IF(Stock!$F149<=Stock!$G149,0,1)","v":1}]
[null,{"$f":"Stock!B150","v":0},{"$f":"Stock!H150","v":0},{"$f":"IF(Stock!C150=\"-\",IF(Stock!D150>0,Stock!D150,\"-\"),Stock!C150)","v":"-"},{"$f":"IF(Stock!$F150<=Stock!$G150,0,1)","v":1}]
[null,{"$f":"Stock!B151","v":0},{"$f":"Stock!H151","v":0},{"$f":"IF(Stock!C151=\"-\",IF(Stock!D151>0,Stock!D151,\"-\"),Stock!C151)","v":"-"},{"$f":"IF(Stock!$F151<=Stock!$G151,0,1)","v":1}]
[null,{"$f":"Stock!B152","v":0},{"$f":"Stock!H152","v":0},{"$f":"IF(Stock!C152=\"-\",IF(Stock!D152>0,Stock!D152,\"-\"),Stock!C152)","v":"-"},{"$f":"IF(Stock!$F152<=Stock!$G152,0,1)","v":1}]
[null,{"$f":"Stock!B153","v":0},{"$f":"Stock!H153","v":0},{"$f":"IF(Stock!C153=\"-\",IF(Stock!D153>0,Stock!D153,\"-\"),Stock!C153)","v":"-"},{"$f":"IF(Stock!$F153<=Stock!$G153,0,1)","v":1}]
[null,{"$f":"Stock!B154","v":0},{"$f":"Stock!H154","v":0},{"$f":"IF(Stock!C154=\"-\",IF(Stock!D154>0,Stock!D154,\"-\"),Stock!C154)","v":"-"},{"$f":"IF(Stock!$F154<=Stock!$G154,0,1)","v":1}]
[null,{"$f":"Stock!B155","v":0},{"$f":"Stock!H155","v":0},{"$f":"IF(Stock!C155=\"-\",IF(Stock!D155>0,Stock!D155,\"-\"),Stock!C155)","v":"-"},{"$f":"IF(Stock!$F155<=Stock!$G155,0,1)","v":1}]
[null,{"$f":"Stock!B156","v":0},{"$f":"Stock!H156","v":0},{"$f":"IF(Stock!C156=\"-\",IF(Stock!D156>0,Stock!D156,\"-\"),Stock!C156)","v":"-"},{"$f":"IF(Stock!$F156<=Stock!$G156,0,1)","v":1}]
[null,{"$f":"Stock!B157","v":0},{"$f":"Stock!H157","v":0},{"$f":"IF(Stock!C157=\"-\",IF(Stock!D157>0,Stock!D157,\"-\"),Stock!C157)","v":"-"},{"$f":"IF(Stock!$F157<=Stock!$G157,0,1)","v":1}]
[null,{"$f":"Stock!B158","v":0},{"$f":"Stock!H158","v":0},{"$f":"IF(Stock!C158=\"-\",IF(Stock!D158>0,Stock!D158,\"-\"),Stock!C158)","v":"-"},{"$f":"IF(Stock!$F158<=Stock!$G158,0,1)","v":1}]
[null,{"$f":"Stock!B159","v":0},{"$f":"Stock!H159","v":0},{"$f":"IF(Stock!C159=\"-\",IF(Stock!D159>0,Stock!D159,\"-\"),Stock!C159)","v":"-"},{"$f":"IF(Stock!$F159<=Stock!$G159,0,1)","v":1}]
[null,{"$f":"Stock!B160","v":0},{"$f":"Stock!H160","v":0},{"$f":"IF(Stock!C160=\"-\",IF(Stock!D160>0,Stock!D160,\"-\"),Stock!C160)","v":"-"},{"$f":"IF(Stock!$F160<=Stock!$G160,0,1)","v":1}]
[null,{"$f":"Stock!B161","v":0},{"$f":"Stock!H161","v":0},{"$f":"IF(Stock!C161=\"-\",IF(Stock!D161>0,Stock!D161,\"-\"),Stock!C161)","v":"-"},{"$f":"IF(Stock!$F161<=Stock!$G161,0,1)","v":1}]
[null,{"$f":"Stock!B162","v":0},{"$f":"Stock!H162","v":0},{"$f":"IF(Stock!C162=\"-\",IF(Stock!D162>0,Stock!D162,\"-\"),Stock!C162)","v":"-"},{"$f":"IF(Stock!$F162<=Stock!$G162,0,1)","v":1}]
[null,{"$f":"Stock!B163","v":0},{"$f":"Stock!H163","v":0},{"$f":"IF(Stock!C163=\"-\",IF(Stock!D163>0,Stock!D163,\"-\"),Stock!C163)","v":"-"},{"$f":"IF(Stock!$F163<=Stock!$G163,0,1)","v":1}]
[null,{"$f":"Stock!B164","v":0},{"$f":"Stock!H164","v":0},{"$f":"IF(Stock!C164=\"-\",IF(Stock!D164>0,Stock!D164,\"-\"),Stock!C164)","v":"-"},{"$f":"IF(Stock!$F164<=Stock!$G164,0,1)","v":1}]
[null,{"$f":"Stock!B165","v":0},{"$f":"Stock!H165","v":0},{"$f":"IF(Stock!C165=\"-\",IF(Stock!D165>0,Stock!D165,\"-\"),Stock!C165)","v":"-"},{"$f":"IF(Stock!$F165<=Stock!$G165,0,1)","v":1}]
[null,{"$f":"Stock!B166","v":0},{"$f":"Stock!H166","v":0},{"$f":"IF(Stock!C166=\"-\",IF(Stock!D166>0,Stock!D166,\"-\"),Stock!C166)","v":"-"},{"$f":"IF(Stock!$F166<=Stock!$G166,0,1)","v":1}]
[null,{"$f":"Stock!B167","v":0},{"$f":"Stock!H167","v":0},{"$f":"IF(Stock!C167=\"-\",IF(Stock!D167>0,Stock!D167,\"-\"),Stock!C167)","v":"-"},{"$f":"IF(Stock!$F167<=Stock!$G167,0,1)","v":1}]
[null,{"$f":"Stock!B168","v":0},{"$f":"Stock!H168","v":0},{"$f":"IF(Stock!C168=\"-\",IF(Stock!D168>0,Stock!D168,\"-\"),Stock!C168)","v":"-"},{"$f":"IF(Stock!$F168<=Stock!$G168,0,1)","v":1}]
[null,{"$f":"Stock!B169","v":0},{"$f":"Stock!H169","v":0},{"$f":"IF(Stock!C169=\"-\",IF(Stock!D169>0,Stock!D169,\"-\"),Stock!C169)","v":"-"},{"$f":"IF(Stock!$F169<=Stock!$G169,0,1)","v":1}]
[null,{"$f":"Stock!B170","v":0},{"$f":"Stock!H170","v":0},{"$f":"IF(Stock!C170=\"-\",IF(Stock!D170>0,Stock!D170,\"-\"),Stock!C170)","v":"-"},{"$f":"IF(Stock!$F170<=Stock!$G170,0,1)","v":1}]
[null,{"$f":"Stock!B171","v":0},{"$f":"Stock!H171","v":0},{"$f":"IF(Stock!C171=\"-\",IF(Stock!D171>0,Stock!D171,\"-\"),Stock!C171)","v":"-"},{"$f":"IF(Stock!$F171<=Stock!$G171,0,1)","v":1}]
[null,{"$f":"Stock!B172","v":0},{"$f":"Stock!H172","v":0},{"$f":"IF(Stock!C172=\"-\",IF(Stock!D172>0,Stock!D172,\"-\"),Stock!C172)","v":"-"},{"$f":"IF(Stock!$F172<=Stock!$G172,0,1)","v":1}]
[null,{"$f":"Stock!B173","v":0},{"$f":"Stock!H173","v":0},{"$f":"IF(Stock!C173=\"-\",IF(Stock!D173>0,Stock!D173,\"-\"),Stock!C173)","v":"-"},{"$f":"IF(Stock!$F173<=Stock!$G173,0,1)","v":1}]
[null,{"$f":"Stock!B174","v":0},{"$f":"Stock!H174","v":0},{"$f":"IF(Stock!C174=\"-\",IF(Stock!D174>0,Stock!D174,\"-\"),Stock!C174)","v":"-"},{"$f":"IF(Stock!$F174<=Stock!$G174,0,1)","v":1}]
[null,{"$f":"Stock!B175","v":0},{"$f":"Stock!H175","v":0},{"$f":"IF(Stock!C175=\"-\",IF(Stock!D175>0,Stock!D175,\"-\"),Stock!C175)","v":"-"},{"$f":"IF(Stock!$F175<=Stock!$G175,0,1)","v":1}]
[null,{"$f":"Stock!B176","v":0},{"$f":"Stock!H176","v":0},{"$f":"IF(Stock!C176=\"-\",IF(Stock!D176>0,Stock!D176,\"-\"),Stock!C176)","v":"-"},{"$f":"IF(Stock!$F176<=Stock!$G176,0,1)","v":1}]
[null,{"$f":"Stock!B177","v":0},{"$f":"Stock!H177","v":0},{"$f":"IF(Stock!C177=\"-\",IF(Stock!D177>0,Stock!D177,\"-\"),Stock!C177)","v":"-"},{"$f":"IF(Stock!$F177<=Stock!$G177,0,1)","v":1}]
[null,{"$f":"Stock!B178","v":0},{"$f":"Stock!H178","v":0},{"$f":"IF(Stock!C178=\"-\",IF(Stock!D178>0,Stock!D178,\"-\"),Stock!C178)","v":"-"},{"$f":"IF(Stock!$F178<=Stock!$G178,0,1)","v":1}]
[null,{"$f":"Stock!B179","v":0},{"$f":"Stock!H179","v":0},{"$f":"IF(Stock!C179=\"-\",IF(Stock!D179>0,Stock!D179,\"-\"),Stock!C179)","v":"-"},{"$f":"IF(Stock!$F179<=Stock!$G179,0,1)","v":1}]
[null,{"$f":"Stock!B180","v":0},{"$f":"Stock!H180","v":0},{"$f":"IF(Stock!C180=\"-\",IF(Stock!D180>0,Stock!D180,\"-\"),Stock!C180)","v":"-"},{"$f":"IF(Stock!$F180<=Stock!$G180,0,1)","v":1}]
[null,{"$f":"Stock!B181","v":0},{"$f":"Stock!H181","v":0},{"$f":"IF(Stock!C181=\"-\",IF(Stock!D181>0,Stock!D181,\"-\"),Stock!C181)","v":"-"},{"$f":"IF(Stock!$F181<=Stock!$G181,0,1)","v":1}]
[null,{"$f":"Stock!B182","v":0},{"$f":"Stock!H182","v":0},{"$f":"IF(Stock!C182=\"-\",IF(Stock!D182>0,Stock!D182,\"-\"),Stock!C182)","v":"-"},{"$f":"IF(Stock!$F182<=Stock!$G182,0,1)","v":1}]
[null,{"$f":"Stock!B190","v":0},{"$f":"Stock!H190","v":0},{"$f":"IF(Stock!C190=\"-\",IF(Stock!D190>0,Stock!D190,\"-\"),Stock!C190)","v":"-"},{"$f":"IF(Stock!$F190<=Stock!$G190,0,1)","v":1}]
[null,{"$f":"Stock!B189","v":0},{"$f":"Stock!H189","v":0},{"$f":"IF(Stock!C189=\"-\",IF(Stock!D189>0,Stock!D189,\"-\"),Stock!C189)","v":"-"},{"$f":"IF(Stock!$F189<=Stock!$G189,0,1)","v":1}]
[null,{"$f":"Stock!B184","v":0},{"$f":"Stock!H184","v":0},{"$f":"IF(Stock!C184=\"-\",IF(Stock!D184>0,Stock!D184,\"-\"),Stock!C184)","v":"-"},{"$f":"IF(Stock!$F184<=Stock!$G184,0,1)","v":1}]
[null,{"$f":"Stock!B187","v":0},{"$f":"Stock!H187","v":0},{"$f":"IF(Stock!C187=\"-\",IF(Stock!D187>0,Stock!D187,\"-\"),Stock!C187)","v":"-"},{"$f":"IF(Stock!$F187<=Stock!$G187,0,1)","v":1}]
[null,{"$f":"Stock!B196","v":0},{"$f":"Stock!H196","v":0},{"$f":"IF(Stock!C196=\"-\",IF(Stock!D196>0,Stock!D196,\"-\"),Stock!C196)","v":"-"},{"$f":"IF(Stock!$F196<=Stock!$G196,0,1)","v":1}]
[null,{"$f":"Stock!B185","v":0},{"$f":"Stock!H185","v":0},{"$f":"IF(Stock!C185=\"-\",IF(Stock!D185>0,Stock!D185,\"-\"),Stock!C185)","v":"-"},{"$f":"IF(Stock!$F185<=Stock!$G185,0,1)","v":1}]
[null,{"$f":"Stock!B183","v":0},{"$f":"Stock!H183","v":0},{"$f":"IF(Stock!C183=\"-\",IF(Stock!D183>0,Stock!D183,\"-\"),Stock!C183)","v":"-"},{"$f":"IF(Stock!$F183<=Stock!$G183,0,1)","v":1}]
[null,{"$f":"Stock!B207","v":0},{"$f":"Stock!H207","v":0},{"$f":"IF(Stock!C207=\"-\",IF(Stock!D207>0,Stock!D207,\"-\"),Stock!C207)","v":"-"},{"$f":"IF(Stock!$F207<=Stock!$G207,0,1)","v":1}]
[null,{"$f":"Stock!B198","v":0},{"$f":"Stock!H198","v":0},{"$f":"IF(Stock!C198=\"-\",IF(Stock!D198>0,Stock!D198,\"-\"),Stock!C198)","v":"-"},{"$f":"IF(Stock!$F198<=Stock!$G198,0,1)","v":1}]
[null,{"$f":"Stock!B200","v":0},{"$f":"Stock!H200","v":0},{"$f":"IF(Stock!C200=\"-\",IF(Stock!D200>0,Stock!D200,\"-\"),Stock!C200)","v":"-"},{"$f":"IF(Stock!$F200<=Stock!$G200,0,1)","v":1}]
[null,{"$f":"Stock!B201","v":0},{"$f":"Stock!H201","v":0},{"$f":"IF(Stock!C201=\"-\",IF(Stock!D201>0,Stock!D201,\"-\"),Stock!C201)","v":"-"},{"$f":"IF(Stock!$F201<=Stock!$G201,0,1)","v":1}]
[null,{"$f":"Stock!B186","v":0},{"$f":"Stock!H186","v":0},{"$f":"IF(Stock!C186=\"-\",IF(Stock!D186>0,Stock!D186,\"-\"),Stock!C186)","v":"-"},{"$f":"IF(Stock!$F186<=Stock!$G186,0,1)","v":1}]
[null,{"$f":"Stock!B199","v":0},{"$f":"Stock!H199","v":0},{"$f":"IF(Stock!C199=\"-\",IF(Stock!D199>0,Stock!D199,\"-\"),Stock!C199)","v":"-"},{"$f":"IF(Stock!$F199<=Stock!$G199,0,1)","v":1}]
[null,{"$f":"Stock!B195","v":0},{"$f":"Stock!H195","v":0},{"$f":"IF(Stock!C195=\"-\",IF(Stock!D195>0,Stock!D195,\"-\"),Stock!C195)","v":"-"},{"$f":"IF(Stock!$F195<=Stock!$G195,0,1)","v":1}]
[null,{"$f":"Stock!B191","v":0},{"$f":"Stock!H191","v":0},{"$f":"IF(Stock!C191=\"-\",IF(Stock!D191>0,Stock!D191,\"-\"),Stock!C191)","v":"-"},{"$f":"IF(Stock!$F191<=Stock!$G191,0,1)","v":1}]
[null,{"$f":"Stock!B192","v":0},{"$f":"Stock!H192","v":0},{"$f":"IF(Stock!C192=\"-\",IF(Stock!D192>0,Stock!D192,\"-\"),Stock!C192)","v":"-"},{"$f":"IF(Stock!$F192<=Stock!$G192,0,1)","v":1}]
[null,{"$f":"Stock!B202","v":0},{"$f":"Stock!H202","v":0},{"$f":"IF(Stock!C202=\"-\",IF(Stock!D202>0,Stock!D202,\"-\"),Stock!C202)","v":"-"},{"$f":"IF(Stock!$F202<=Stock!$G202,0,1)","v":1}]
[null,{"$f":"Stock!B205","v":0},{"$f":"Stock!H205","v":0},{"$f":"IF(Stock!C205=\"-\",IF(Stock!D205>0,Stock!D205,\"-\"),Stock!C205)","v":"-"},{"$f":"IF(Stock!$F205<=Stock!$G205,0,1)","v":1}]
[null,{"$f":"Stock!B206","v":0},{"$f":"Stock!H206","v":0},{"$f":"IF(Stock!C206=\"-\",IF(Stock!D206>0,Stock!D206,\"-\"),Stock!C206)","v":"-"},{"$f":"IF(Stock!$F206<=Stock!$G206,0,1)","v":1}]
[null,{"$f":"Stock!B194","v":0},{"$f":"Stock!H194","v":0},{"$f":"IF(Stock!C194=\"-\",IF(Stock!D194>0,Stock!D194,\"-\"),Stock!C194)","v":"-"},{"$f":"IF(Stock!$F194<=Stock!$G194,0,1)","v":1}]
[null,{"$f":"Stock!B188","v":0},{"$f":"Stock!H188","v":0},{"$f":"IF(Stock!C188=\"-\",IF(Stock!D188>0,Stock!D188,\"-\"),Stock!C188)","v":"-"},{"$f":"IF(Stock!$F188<=Stock!$G188,0,1)","v":1}]
[null,{"$f":"Stock!B197","v":0},{"$f":"Stock!H197","v":0},{"$f":"IF(Stock!C197=\"-\",IF(Stock!D197>0,Stock!D197,\"-\"),Stock!C197)","v":"-"},{"$f":"IF(Stock!$F197<=Stock!$G197,0,1)","v":1}]
[null,{"$f":"Stock!B203","v":0},{"$f":"Stock!H203","v":0},{"$f":"IF(Stock!C203=\"-\",IF(Stock!D203>0,Stock!D203,\"-\"),Stock!C203)","v":"-"},{"$f":"IF(Stock!$F203<=Stock!$G203,0,1)","v":1}]
[null,{"$f":"Stock!B204","v":0},{"$f":"Stock!H204","v":0},{"$f":"IF(Stock!C204=\"-\",IF(Stock!D204>0,Stock!D204,\"-\"),Stock!C204)","v":"-"},{"$f":"IF(Stock!$F204<=Stock!$G204,0,1)","v":1}]
[null,{"$f":"Stock!B193","v":0},{"$f":"Stock!H193","v":0},{"$f":"IF(Stock!C193=\"-\",IF(Stock!D193>0,Stock!D193,\"-\"),Stock!C193)","v":"-"},{"$f":"IF(Stock!$F193<=Stock!$G193,0,1)","v":1}]
[null,{"$f":"Stock!B75","v":"Cinnamon Sticks"},{"$f":"Stock!H75","v":"The Spice Rack"},{"$f":"IF(Stock!C75=\"-\",IF(Stock!D75>0,Stock!D75,\"-\"),Stock!C75)","v":10},{"$f":"IF(Stock!$F75<=Stock!$G75,0,1)","v":1}]
[null,{"$f":"Stock!B58","v":"Baked Beans Heinz X4"},{"$f":"Stock!H58","v":"Tesco"},{"$f":"IF(Stock!C58=\"-\",IF(Stock!D58>0,Stock!D58,\"-\"),Stock!C58)","v":100},{"$f":"IF(Stock!$F58<=Stock!$G58,0,1)","v":0}]
[null,{"$f":"Stock!B7","v":"Sugar Tate Lyle"},{"$f":"Stock!H7","v":"Aldi"},{"$f":"IF(Stock!C7=\"-\",IF(Stock!D7>0,Stock!D7,\"-\"),Stock!C7)","v":1000},{"$f":"IF(Stock!$F7<=Stock!$G7,0,1)","v":0}]
[null,{"$f":"Stock!B57","v":"Cornflakes"},{"$f":"Stock!H57","v":"Tesco"},{"$f":"IF(Stock!C57=\"-\",IF(Stock!D57>0,Stock!D57,\"-\"),Stock!C57)","v":1000},{"$f":"IF(Stock!$F57<=Stock!$G57,0,1)","v":1}]
[null,{"$f":"Stock!B60","v":"Tomato Sauce Heinz"},{"$f":"Stock!H60","v":"Tesco"},{"$f":"IF(Stock!C60=\"-\",IF(Stock!D60>0,Stock!D60,\"-\"),Stock!C60)","v":200},{"$f":"IF(Stock!$F60<=Stock!$G60,0,1)","v":1}]
[null,{"$f":"Stock!B55","v":"Wine"},{"$f":"Stock!H55","v":"Sainsbury"},{"$f":"IF(Stock!C55=\"-\",IF(Stock!D55>0,Stock!D55,\"-\"),Stock!C55)","v":"-"},{"$f":"IF(Stock!$F55<=Stock!$G55,0,1)","v":1}]
[null,{"$f":"Stock!B19","v":"Johnsons Baby Lotion"},{"$f":"Stock!H19","v":"Lidl"},{"$f":"IF(Stock!C19=\"-\",IF(Stock!D19>0,Stock!D19,\"-\"),Stock!C19)","v":200},{"$f":"IF(Stock!$F19<=Stock!$G19,0,1)","v":0}]
[null,{"$f":"Stock!B76","v":"Baguettes X4"},{"$f":"Stock!H76","v":"Toms Bakery"},{"$f":"IF(Stock!C76=\"-\",IF(Stock!D76>0,Stock!D76,\"-\"),Stock!C76)","v":"-"},{"$f":"IF(Stock!$F76<=Stock!$G76,0,1)","v":1}]
[null,{"$f":"Stock!B20","v":"Alpen"},{"$f":"Stock!H20","v":"Lidl"},{"$f":"IF(Stock!C20=\"-\",IF(Stock!D20>0,Stock!D20,\"-\"),Stock!C20)","v":210},{"$f":"IF(Stock!$F20<=Stock!$G20,0,1)","v":1}]
[null,{"$f":"Stock!B8","v":"Pegs"},{"$f":"Stock!H8","v":"Aldi"},{"$f":"IF(Stock!C8=\"-\",IF(Stock!D8>0,Stock!D8,\"-\"),Stock!C8)","v":"-"},{"$f":"IF(Stock!$F8<=Stock!$G8,0,1)","v":1}]
[null,{"$f":"Stock!B27","v":"Toilet Roll Tescos 16"},{"$f":"Stock!H27","v":"Lidl"},{"$f":"IF(Stock!C27=\"-\",IF(Stock!D27>0,Stock!D27,\"-\"),Stock!C27)","v":"-"},{"$f":"IF(Stock!$F27<=Stock!$G27,0,1)","v":1}]
[null,{"$f":"Stock!B61","v":"Flour Plain"},{"$f":"Stock!H61","v":"Tesco"},{"$f":"IF(Stock!C61=\"-\",IF(Stock!D61>0,Stock!D61,\"-\"),Stock!C61)","v":1000},{"$f":"IF(Stock!$F61<=Stock!$G61,0,1)","v":0}]
[null,{"$f":"Stock!B23","v":"Oil Vegetable"},{"$f":"Stock!H23","v":"Lidl"},{"$f":"IF(Stock!C23=\"-\",IF(Stock!D23>0,Stock!D23,\"-\"),Stock!C23)","v":200},{"$f":"IF(Stock!$F23<=Stock!$G23,0,1)","v":1}]
[null,{"$f":"Stock!B28","v":"Brussel Sproughts"},{"$f":"Stock!H28","v":"Market"},{"$f":"IF(Stock!C28=\"-\",IF(Stock!D28>0,Stock!D28,\"-\"),Stock!C28)","v":200},{"$f":"IF(Stock!$F28<=Stock!$G28,0,1)","v":1}]
[null,{"$f":"Stock!B14","v":"Cod Fillets X4"},{"$f":"Stock!H14","v":"Co-Op"},{"$f":"IF(Stock!C14=\"-\",IF(Stock!D14>0,Stock!D14,\"-\"),Stock!C14)","v":"-"},{"$f":"IF(Stock!$F14<=Stock!$G14,0,1)","v":1}]
[null,{"$f":"Stock!B63","v":"Oxo Beef Cube 12"},{"$f":"Stock!H63","v":"Tesco"},{"$f":"IF(Stock!C63=\"-\",IF(Stock!D63>0,Stock!D63,\"-\"),Stock!C63)","v":"-"},{"$f":"IF(Stock!$F63<=Stock!$G63,0,1)","v":0}]
[null,{"$f":"Stock!B9","v":"Peas Frozen"},{"$f":"Stock!H9","v":"Aldi"},{"$f":"IF(Stock!C9=\"-\",IF(Stock!D9>0,Stock!D9,\"-\"),Stock!C9)","v":500},{"$f":"IF(Stock!$F9<=Stock!$G9,0,1)","v":1}]
[null,{"$f":"Stock!B49","v":"Fairy Liquid"},{"$f":"Stock!H49","v":"Sainsbury"},{"$f":"IF(Stock!C49=\"-\",IF(Stock!D49>0,Stock!D49,\"-\"),Stock!C49)","v":300},{"$f":"IF(Stock!$F49<=Stock!$G49,0,1)","v":1}]
[null,{"$f":"Stock!B17","v":"Cotton Buds X100"},{"$f":"Stock!H17","v":"Lidl"},{"$f":"IF(Stock!C17=\"-\",IF(Stock!D17>0,Stock!D17,\"-\"),Stock!C17)","v":"-"},{"$f":"IF(Stock!$F17<=Stock!$G17,0,1)","v":0}]
[null,{"$f":"Stock!B18","v":"Johnson Baby Oil "},{"$f":"Stock!H18","v":"Lidl"},{"$f":"IF(Stock!C18=\"-\",IF(Stock!D18>0,Stock!D18,\"-\"),Stock!C18)","v":200},{"$f":"IF(Stock!$F18<=Stock!$G18,0,1)","v":1}]
[null,{"$f":"Stock!B37","v":"Tomatos Fresh"},{"$f":"Stock!H37","v":"Market"},{"$f":"IF(Stock!C37=\"-\",IF(Stock!D37>0,Stock!D37,\"-\"),Stock!C37)","v":300},{"$f":"IF(Stock!$F37<=Stock!$G37,0,1)","v":1}]
[null,{"$f":"Stock!B30","v":"Courgettes X2"},{"$f":"Stock!H30","v":"Market"},{"$f":"IF(Stock!C30=\"-\",IF(Stock!D30>0,Stock!D30,\"-\"),Stock!C30)","v":"-"},{"$f":"IF(Stock!$F30<=Stock!$G30,0,1)","v":1}]
[null,{"$f":"Stock!B65","v":"Oxo Veg Cube X6"},{"$f":"Stock!H65","v":"Tesco"},{"$f":"IF(Stock!C65=\"-\",IF(Stock!D65>0,Stock!D65,\"-\"),Stock!C65)","v":"-"},{"$f":"IF(Stock!$F65<=Stock!$G65,0,1)","v":1}]
[null,{"$f":"Stock!B47","v":"Ariel Wash Tablets 36"},{"$f":"Stock!H47","v":"Sainsbury"},{"$f":"IF(Stock!C47=\"-\",IF(Stock!D47>0,Stock!D47,\"-\"),Stock!C47)","v":"-"},{"$f":"IF(Stock!$F47<=Stock!$G47,0,1)","v":1}]
[null,{"$f":"Stock!B48","v":"Dettol Power Spray"},{"$f":"Stock!H48","v":"Sainsbury"},{"$f":"IF(Stock!C48=\"-\",IF(Stock!D48>0,Stock!D48,\"-\"),Stock!C48)","v":720},{"$f":"IF(Stock!$F48<=Stock!$G48,0,1)","v":1}]
[null,{"$f":"Stock!B46","v":"Kidney Beans Dried"},{"$f":"Stock!H46","v":"Sainsbury"},{"$f":"IF(Stock!C46=\"-\",IF(Stock!D46>0,Stock!D46,\"-\"),Stock!C46)","v":500},{"$f":"IF(Stock!$F46<=Stock!$G46,0,1)","v":1}]
[null,{"$f":"Stock!B68","v":"Potatoes 10kg"},{"$f":"Stock!H68","v":"Tesco"},{"$f":"IF(Stock!C68=\"-\",IF(Stock!D68>0,Stock!D68,\"-\"),Stock!C68)","v":5000},{"$f":"IF(Stock!$F68<=Stock!$G68,0,1)","v":1}]
[null,{"$f":"Stock!B66","v":"Batteries AA 12 pack"},{"$f":"Stock!H66","v":"Tesco"},{"$f":"IF(Stock!C66=\"-\",IF(Stock!D66>0,Stock!D66,\"-\"),Stock!C66)","v":"-"},{"$f":"IF(Stock!$F66<=Stock!$G66,0,1)","v":1}]
[null,{"$f":"Stock!B43","v":"Tea Tetley 240"},{"$f":"Stock!H43","v":"Sainsbury"},{"$f":"IF(Stock!C43=\"-\",IF(Stock!D43>0,Stock!D43,\"-\"),Stock!C43)","v":"-"},{"$f":"IF(Stock!$F43<=Stock!$G43,0,1)","v":1}]
[null,{"$f":"Stock!B42","v":"Mr Kiplings Lemon Slice"},{"$f":"Stock!H42","v":"Sainsbury"},{"$f":"IF(Stock!C42=\"-\",IF(Stock!D42>0,Stock!D42,\"-\"),Stock!C42)","v":"-"},{"$f":"IF(Stock!$F42<=Stock!$G42,0,1)","v":1}]
[null,{"$f":"Stock!B45","v":"Tomatos Chopped Tin"},{"$f":"Stock!H45","v":"Sainsbury"},{"$f":"IF(Stock!C45=\"-\",IF(Stock!D45>0,Stock!D45,\"-\"),Stock!C45)","v":210},{"$f":"IF(Stock!$F45<=Stock!$G45,0,1)","v":1}]
[null,{"$f":"Stock!B44","v":"Wheatabix X24"},{"$f":"Stock!H44","v":"Sainsbury"},{"$f":"IF(Stock!C44=\"-\",IF(Stock!D44>0,Stock!D44,\"-\"),Stock!C44)","v":"-"},{"$f":"IF(Stock!$F44<=Stock!$G44,0,1)","v":1}]
[null,{"$f":"Stock!B62","v":"Flour Self Raising"},{"$f":"Stock!H62","v":"Tesco"},{"$f":"IF(Stock!C62=\"-\",IF(Stock!D62>0,Stock!D62,\"-\"),Stock!C62)","v":1000},{"$f":"IF(Stock!$F62<=Stock!$G62,0,1)","v":1}]
[null,{"$f":"Stock!B11","v":"Bank  £10  X3 = £30"},{"$f":"Stock!H11","v":"Barclays"},{"$f":"IF(Stock!C11=\"-\",IF(Stock!D11>0,Stock!D11,\"-\"),Stock!C11)","v":"-"},{"$f":"IF(Stock!$F11<=Stock!$G11,0,1)","v":0}]
[null,{"$f":"Stock!B10","v":"Pepperoni Pizza"},{"$f":"Stock!H10","v":"Aldi"},{"$f":"IF(Stock!C10=\"-\",IF(Stock!D10>0,Stock!D10,\"-\"),Stock!C10)","v":"-"},{"$f":"IF(Stock!$F10<=Stock!$G10,0,1)","v":1}]
[null,{"$f":"Stock!B40","v":"Hand Soap"},{"$f":"Stock!H40","v":"Sainsbury"},{"$f":"IF(Stock!C40=\"-\",IF(Stock!D40>0,Stock!D40,\"-\"),Stock!C40)","v":250},{"$f":"IF(Stock!$F40<=Stock!$G40,0,1)","v":1}]
[null,{"$f":"Stock!B35","v":"Papaya"},{"$f":"Stock!H35","v":"Market"},{"$f":"IF(Stock!C35=\"-\",IF(Stock!D35>0,Stock!D35,\"-\"),Stock!C35)","v":"-"},{"$f":"IF(Stock!$F35<=Stock!$G35,0,1)","v":1}]
[null,{"$f":"Stock!B52","v":"Chicken Whole Fresh"},{"$f":"Stock!H52","v":"Sainsbury"},{"$f":"IF(Stock!C52=\"-\",IF(Stock!D52>0,Stock!D52,\"-\"),Stock!C52)","v":2000},{"$f":"IF(Stock!$F52<=Stock!$G52,0,1)","v":0}]
[null,{"$f":"Stock!B24","v":"Light Bulbs"},{"$f":"Stock!H24","v":"Lidl"},{"$f":"IF(Stock!C24=\"-\",IF(Stock!D24>0,Stock!D24,\"-\"),Stock!C24)","v":"-"},{"$f":"IF(Stock!$F24<=Stock!$G24,0,1)","v":1}]
[null,{"$f":"Stock!B38","v":"Bucket"},{"$f":"Stock!H38","v":"Market"},{"$f":"IF(Stock!C38=\"-\",IF(Stock!D38>0,Stock!D38,\"-\"),Stock!C38)","v":"-"},{"$f":"IF(Stock!$F38<=Stock!$G38,0,1)","v":1}]
[null,{"$f":"Stock!B15","v":"Bananas  X8"},{"$f":"Stock!H15","v":"Farm Shop"},{"$f":"IF(Stock!C15=\"-\",IF(Stock!D15>0,Stock!D15,\"-\"),Stock!C15)","v":"-"},{"$f":"IF(Stock!$F15<=Stock!$G15,0,1)","v":0}]
[null,{"$f":"Stock!B36","v":"Cucumber Half"},{"$f":"Stock!H36","v":"Market"},{"$f":"IF(Stock!C36=\"-\",IF(Stock!D36>0,Stock!D36,\"-\"),Stock!C36)","v":"-"},{"$f":"IF(Stock!$F36<=Stock!$G36,0,1)","v":1}]
[null,{"$f":"Stock!B21","v":"Shreadies Malt"},{"$f":"Stock!H21","v":"Lidl"},{"$f":"IF(Stock!C21=\"-\",IF(Stock!D21>0,Stock!D21,\"-\"),Stock!C21)","v":750},{"$f":"IF(Stock!$F21<=Stock!$G21,0,1)","v":1}]
[null,{"$f":"Stock!B29","v":"Carrots "},{"$f":"Stock!H29","v":"Market"},{"$f":"IF(Stock!C29=\"-\",IF(Stock!D29>0,Stock!D29,\"-\"),Stock!C29)","v":500},{"$f":"IF(Stock!$F29<=Stock!$G29,0,1)","v":1}]
[null,{"$f":"Stock!B39","v":"Simplicity Pads"},{"$f":"Stock!H39","v":"Sainsbury"},{"$f":"IF(Stock!C39=\"-\",IF(Stock!D39>0,Stock!D39,\"-\"),Stock!C39)","v":"-"},{"$f":"IF(Stock!$F39<=Stock!$G39,0,1)","v":1}]
[null,{"$f":"Stock!B67","v":"Chocolate"},{"$f":"Stock!H67","v":"Tesco"},{"$f":"IF(Stock!C67=\"-\",IF(Stock!D67>0,Stock!D67,\"-\"),Stock!C67)","v":"-"},{"$f":"IF(Stock!$F67<=Stock!$G67,0,1)","v":1}]
[null,{"$f":"Stock!B69","v":"Chicken Breast Skinned"},{"$f":"Stock!H69","v":"Tesco"},{"$f":"IF(Stock!C69=\"-\",IF(Stock!D69>0,Stock!D69,\"-\"),Stock!C69)","v":320},{"$f":"IF(Stock!$F69<=Stock!$G69,0,1)","v":1}]
[null,{"$f":"Stock!B50","v":"Peppers  Assorted"},{"$f":"Stock!H50","v":"Sainsbury"},{"$f":"IF(Stock!C50=\"-\",IF(Stock!D50>0,Stock!D50,\"-\"),Stock!C50)","v":"-"},{"$f":"IF(Stock!$F50<=Stock!$G50,0,1)","v":0}]
[null,{"$f":"Stock!B13","v":"Condoms"},{"$f":"Stock!H13","v":"Chemist"},{"$f":"IF(Stock!C13=\"-\",IF(Stock!D13>0,Stock!D13,\"-\"),Stock!C13)","v":"-"},{"$f":"IF(Stock!$F13<=Stock!$G13,0,1)","v":0}]
[null,{"$f":"Stock!B26","v":"Beer  8 Pack"},{"$f":"Stock!H26","v":"Lidl"},{"$f":"IF(Stock!C26=\"-\",IF(Stock!D26>0,Stock!D26,\"-\"),Stock!C26)","v":"-"},{"$f":"IF(Stock!$F26<=Stock!$G26,0,1)","v":1}]
[null,{"$f":"Stock!B64","v":"Oxo Chick Cube X6"},{"$f":"Stock!H64","v":"Tesco"},{"$f":"IF(Stock!C64=\"-\",IF(Stock!D64>0,Stock!D64,\"-\"),Stock!C64)","v":"-"},{"$f":"IF(Stock!$F64<=Stock!$G64,0,1)","v":1}]
[null,{"$f":"Stock!B32","v":"Lettuce Iceburg"},{"$f":"Stock!H32","v":"Market"},{"$f":"IF(Stock!C32=\"-\",IF(Stock!D32>0,Stock!D32,\"-\"),Stock!C32)","v":"-"},{"$f":"IF(Stock!$F32<=Stock!$G32,0,1)","v":1}]
[null,{"$f":"Stock!B59","v":"Cadbury Chocolate Drink"},{"$f":"Stock!H59","v":"Tesco"},{"$f":"IF(Stock!C59=\"-\",IF(Stock!D59>0,Stock!D59,\"-\"),Stock!C59)","v":200},{"$f":"IF(Stock!$F59<=Stock!$G59,0,1)","v":1}]
[null,{"$f":"Stock!B33","v":"Mango  X4"},{"$f":"Stock!H33","v":"Market"},{"$f":"IF(Stock!C33=\"-\",IF(Stock!D33>0,Stock!D33,\"-\"),Stock!C33)","v":"-"},{"$f":"IF(Stock!$F33<=Stock!$G33,0,1)","v":1}]
[null,{"$f":"Stock!B51","v":"Chicken Thighs Fresh"},{"$f":"Stock!H51","v":"Sainsbury"},{"$f":"IF(Stock!C51=\"-\",IF(Stock!D51>0,Stock!D51,\"-\"),Stock!C51)","v":600},{"$f":"IF(Stock!$F51<=Stock!$G51,0,1)","v":1}]
[null,{"$f":"Stock!B54","v":"Prawns Fresh"},{"$f":"Stock!H54","v":"Sainsbury"},{"$f":"IF(Stock!C54=\"-\",IF(Stock!D54>0,Stock!D54,\"-\"),Stock!C54)","v":400},{"$f":"IF(Stock!$F54<=Stock!$G54,0,1)","v":1}]
[null,{"$f":"Stock!B34","v":"Onions "},{"$f":"Stock!H34","v":"Market"},{"$f":"IF(Stock!C34=\"-\",IF(Stock!D34>0,Stock!D34,\"-\"),Stock!C34)","v":300},{"$f":"IF(Stock!$F34<=Stock!$G34,0,1)","v":1}]
[null,{"$f":"Stock!B25","v":"Ham Joint"},{"$f":"Stock!H25","v":"Lidl"},{"$f":"IF(Stock!C25=\"-\",IF(Stock!D25>0,Stock!D25,\"-\"),Stock!C25)","v":2000},{"$f":"IF(Stock!$F25<=Stock!$G25,0,1)","v":0}]
[null,{"$f":"Stock!B53","v":"Butter Unsalted"},{"$f":"Stock!H53","v":"Sainsbury"},{"$f":"IF(Stock!C53=\"-\",IF(Stock!D53>0,Stock!D53,\"-\"),Stock!C53)","v":200},{"$f":"IF(Stock!$F53<=Stock!$G53,0,1)","v":1}]
[null,{"$f":"Stock!B56","v":"Coffee Nescafe Alta Rica"},{"$f":"Stock!H56","v":"Tesco"},{"$f":"IF(Stock!C56=\"-\",IF(Stock!D56>0,Stock!D56,\"-\"),Stock!C56)","v":400},{"$f":"IF(Stock!$F56<=Stock!$G56,0,1)","v":0}]
[null,{"$f":"Stock!B31","v":"Leeks"},{"$f":"Stock!H31","v":"Market"},{"$f":"IF(Stock!C31=\"-\",IF(Stock!D31>0,Stock!D31,\"-\"),Stock!C31)","v":500},{"$f":"IF(Stock!$F31<=Stock!$G31,0,1)","v":1}]
[null,{"$f":"Stock!B72","v":"Ham Sliced"},{"$f":"Stock!H72","v":"Tesco"},{"$f":"IF(Stock!C72=\"-\",IF(Stock!D72>0,Stock!D72,\"-\"),Stock!C72)","v":200},{"$f":"IF(Stock!$F72<=Stock!$G72,0,1)","v":0}]
[null,{"$f":"Stock!B73","v":"Milk Semi  Cravendale"},{"$f":"Stock!H73","v":"Tesco"},{"$f":"IF(Stock!C73=\"-\",IF(Stock!D73>0,Stock!D73,\"-\"),Stock!C73)","v":2000},{"$f":"IF(Stock!$F73<=Stock!$G73,0,1)","v":1}]
[null,{"$f":"Stock!B12","v":"Pork Belly"},{"$f":"Stock!H12","v":"Butchers"},{"$f":"IF(Stock!C12=\"-\",IF(Stock!D12>0,Stock!D12,\"-\"),Stock!C12)","v":2000},{"$f":"IF(Stock!$F12<=Stock!$G12,0,1)","v":0}]
[null,{"$f":"Stock!B16","v":"Bleach Domestos"},{"$f":"Stock!H16","v":"Lidl"},{"$f":"IF(Stock!C16=\"-\",IF(Stock!D16>0,Stock!D16,\"-\"),Stock!C16)","v":250},{"$f":"IF(Stock!$F16<=Stock!$G16,0,1)","v":0}]
[null,{"$f":"Stock!B71","v":"Salmon Fillet X4"},{"$f":"Stock!H71","v":"Tesco"},{"$f":"IF(Stock!C71=\"-\",IF(Stock!D71>0,Stock!D71,\"-\"),Stock!C71)","v":400},{"$f":"IF(Stock!$F71<=Stock!$G71,0,1)","v":1}]
[null,{"$f":"Stock!B70","v":"Chips Frozen McCain"},{"$f":"Stock!H70","v":"Tesco"},{"$f":"IF(Stock!C70=\"-\",IF(Stock!D70>0,Stock!D70,\"-\"),Stock!C70)","v":2000},{"$f":"IF(Stock!$F70<=Stock!$G70,0,1)","v":1}]

{"sheet":"Stock","index":1,"n_rows":207,"n_cols":8,"rows_kept":207,"cut":false,"hidden":false,"merged":[[1,1,3,5],[1,6,3,6]]}
[]
[null,"Cupboard Stock Check",null,null,null,null,"SORT BUTTONS"]
[]
[]
[]
[null,"Product List","Grams","ml","Location","Stock","Re-Stock","Buy From"]
[null,"Sugar Tate Lyle",1000,"-","Cupboard 1",1,1,"Aldi"]
[null,"Pegs","-","-","Cupboard 4",20,5,"Aldi"]
[null,"Peas Frozen",500,"-","Freezer",1,0,"Aldi"]
[null,"Pepperoni Pizza","-","-","Freezer",4,0,"Aldi"]
[null,"Bank  £10  X3 = £30","-","-","Purse Wallet",3,3,"Barclays"]
[null,"Pork Belly",2000,"-","Freezer",2,2,"Butchers"]
[null,"Condoms","-","-","Purse Wallet",2,2,"Chemist"]
[null,"Cod Fillets X4","-","-","Freezer",4,0,"Co-Op"]
[null,"Bananas  X8","-","-","Cupboard 5",3,4,"Farm Shop"]
[null,"Bleach Domestos","-",250,"Bathroom",0,0,"Lidl"]
[null,"Cotton Buds X100","-","-","Bathroom",0,0,"Lidl"]
[null,"Johnson Baby Oil ","-",200,"Bathroom",1,0,"Lidl"]
[null,"Johnsons Baby Lotion","-",200,"Bathroom",0,0,"Lidl"]
[null,"Alpen",210,"-","Cupboard 1",1,0,"Lidl"]
[null,"Shreadies Malt",750,"-","Cupboard 1",1,0,"Lidl"]
[null,"Oil Olive","-",200,"Cupboard 3",0,0,"Lidl"]
[null,"Oil Vegetable","-",200,"Cupboard 3",1,0,"Lidl"]
[null,"Light Bulbs","-","-","Cupboard 4",3,2,"Lidl"]
[null,"Ham Joint",2000,"-","Fridge",0,0,"Lidl"]
[null,"Beer  8 Pack","-","-","Garage Shed",6,3,"Lidl"]
[null,"Toilet Roll Tescos 16","-","-","Garage Shed",12,4,"Lidl"]
[null,"Brussel Sproughts",200,"-","Cupboard 5",1,0,"Market"]
[null,"Carrots ",500,"-","Cupboard 5",1,0,"Market"]
[null,"Courgettes X2","-","-","Cupboard 5",1,0,"Market"]
[null,"Leeks",500,"-","Cupboard 5",1,0,"Market"]
[null,"Lettuce Iceburg","-","-","Cupboard 5",1,0,"Market"]
[null,"Mango  X4","-","-","Cupboard 5",3,1,"Market"]
[null,"Onions ",300,"-","Cupboard 5",1,0,"Market"]
[null,"Papaya","-","-","Cupboard 5",2,1,"Market"]
[null,"Cucumber Half","-","-","Fridge",1,0,"Market"]
[null,"Tomatos Fresh",300,"-","Fridge",1,0,"Market"]
[null,"Bucket","-","-","Garage Shed",1,0,"Market"]
[null,"Simplicity Pads","-","-","Bathroom",1,0,"Sainsbury"]
[null,"Hand Soap","-",250,"Bathroom",1,0,"Sainsbury"]
[null,"Biscuits Various","-","-","Cupboard 1",1,0,"Sainsbury"]
[null,"Mr Kiplings Lemon Slice","-","-","Cupboard 1",2,1,"Sainsbury"]
[null,"Tea Tetley 240","-","-","Cupboard 1",1,0,"Sainsbury"]
[null,"Wheatabix X24","-","-","Cupboard 1",12,6,"Sainsbury"]
[null,"Tomatos Chopped Tin",210,"-","Cupboard 2",1,0,"Sainsbury"]
[null,"Kidney Beans Dried",500,"-","Cupboard 3",1,0,"Sainsbury"]
[null,"Ariel Wash Tablets 36","-","-","Cupboard 4",24,4,"Sainsbury"]
[null,"Dettol Power Spray","-",720,"Cupboard 4",1,0,"Sainsbury"]
[null,"Fairy Liquid","-",300,"Cupboard 4",1,0,"Sainsbury"]
[null,"Peppers  Assorted","-","-","Cupboard 5",0,0,"Sainsbury"]
[null,"Chicken Thighs Fresh",600,"-","Freezer",1,0,"Sainsbury"]
[null,"Chicken Whole Fresh",2000,"-","Freezer",1,1,"Sainsbury"]
[null,"Butter Unsalted",200,"-","Fridge",1,0,"Sainsbury"]
[null,"Prawns Fresh",400,"-","Fridge",1,0,"Sainsbury"]
[null,"Wine","-","-","Garage Shed",3,0,"Sainsbury"]
[null,"Coffee Nescafe Alta Rica",400,"-","Cupboard 1",0,0,"Tesco"]
[null,"Cornflakes",1000,"-","Cupboard 1",1,0,"Tesco"]
[null,"Baked Beans Heinz X4",100,"-","Cupboard 2",1,2,"Tesco"]
[null,"Cadbury Chocolate Drink",200,"-","Cupboard 2",1,0,"Tesco"]
[null,"Tomato Sauce Heinz","-",200,"Cupboard 2",1,0,"Tesco"]
[null,"Flour Plain",1000,"-","Cupboard 3",0,0,"Tesco"]
[null,"Flour Self Raising",1000,"-","Cupboard 3",1,0,"Tesco"]
[null,"Oxo Beef Cube 12","-","-","Cupboard 3",4,4,"Tesco"]
[null,"Oxo Chick Cube X6","-","-","Cupboard 3",8,3,"Tesco"]
[null,"Oxo Veg Cube X6","-","-","Cupboard 3",12,1,"Tesco"]
[null,"Batteries AA 12 pack","-","-","Cupboard 4",5,2,"Tesco"]
[null,"Chocolate","-","-","Cupboard 4",1,0,"Tesco"]
[null,"Potatoes 10kg",5000,"-","Cupboard 5",2,1,"Tesco"]
[null,"Chicken Breast Skinned",320,"-","Freezer",1,0,"Tesco"]
[null,"Chips Frozen McCain",2000,"-","Freezer",2,1,"Tesco"]
[null,"Salmon Fillet X4",400,"-","Freezer",4,0,"Tesco"]
[null,"Ham Sliced",200,"-","Fridge",2,2,"Tesco"]
[null,"Milk Semi  Cravendale","-",2000,"Fridge",1,0,"Tesco"]
[null,"Black Pepper Whole",25,"-","Cupboard 3",1,0,"The Spice Rack"]
[null,"Cinnamon Sticks",10,"-","Cupboard 3",5,1,"The Spice Rack"]
[null,"Baguettes X4","-","-","Pantry",1,0,"Toms Bakery"]
[null,"Bread Rolls X12","-","-","Pantry",6,4,"Toms Bakery"]
[null,"French Stick","-","-","Pantry",1,0,"Toms Bakery"]
[null,null,"-","-",null,1,0]
[null,null,"-","-",null,1,0]
[null,null,"-","-",null,1,0]
[null,null,"-","-",null,1,0]
[null,null,"-","-",null,1,0]
[null,null,"-","-",null,1,0]
[null,null,"-","-",null,1,0]
[null,null,"-","-",null,1,0]
[null,null,"-","-",null,1,0]
[null,null,"-","-",null,1,0]
[null,null,"-","-",null,1,0]
[null,null,"-","-",null,1,0]
[null,null,"-","-",null,1,0]
[null,null,"-","-",null,1,0]
[null,null,"-","-",null,1,0]
[null,null,"-","-",null,1,0]
[null,null,"-","-",null,1,0]
[null,null,"-","-",null,1,0]
[null,null,"-","-",null,1,0]
[null,null,"-","-",null,1,0]
[null,null,"-","-",null,1,0]
[null,null,"-","-",null,1,0]
[null,null,"-","-",null,1,0]
[null,null,"-","-",null,1,0]
[null,null,"-","-",null,1,0]
[null,null,"-","-",null,1,0]
[null,null,"-","-",null,1,0]
[null,null,"-","-",null,1,0]
[null,null,"-","-",null,1,0]
[null,null,"-","-",null,1,0]
[null,null,"-","-",null,1,0]
[null,null,"-","-",null,1,0]
[null,null,"-","-",null,1,0]
[null,null,"-","-",null,1,0]
[null,null,"-","-",null,1,0]
[null,null,"-","-",null,1,0]
[null,null,"-","-",null,1,0]
[null,null,"-","-",null,1,0]
[null,null,"-","-",null,1,0]
[null,null,"-","-",null,1,0]
[null,null,"-","-",null,1,0]
[null,null,"-","-",null,1,0]
[null,null,"-","-",null,1,0]
[null,null,"-","-",null,1,0]
[null,null,"-","-",null,1,0]
[null,null,"-","-",null,1,0]
[null,null,"-","-",null,1,0]
[null,null,"-","-",null,1,0]
[null,null,"-","-",null,1,0]
[null,null,"-","-",null,1,0]
[null,null,"-","-",null,1,0]
[null,null,"-","-",null,1,0]
[null,null,"-","-",null,1,0]
[null,null,"-","-",null,1,0]
[null,null,"-","-",null,1,0]
[null,null,"-","-",null,1,0]
[null,null,"-","-",null,1,0]
[null,null,"-","-",null,1,0]
[null,null,"-","-",null,1,0]
[null,null,"-","-",null,1,0]
[null,null,"-","-",null,1,0]
[null,null,"-","-",null,1,0]
[null,null,"-","-",null,1,0]
[null,null,"-","-",null,1,0]
[null,null,"-","-",null,1,0]
[null,null,"-","-",null,1,0]
[null,null,"-","-",null,1,0]
[null,null,"-","-",null,1,0]
[null,null,"-","-",null,1,0]
[null,null,"-","-",null,1,0]
[null,null,"-","-",null,1,0]
[null,null,"-","-",null,1,0]
[null,null,"-","-",null,1,0]
[null,null,"-","-",null,1,0]
[null,null,"-","-",null,1,0]
[null,null,"-","-",null,1,0]
[null,null,"-","-",null,1,0]
[null,null,"-","-",null,1,0]
[null,null,"-","-",null,1,0]
[null,null,"-","-",null,1,0]
[null,null,"-","-",null,1,0]
[null,null,"-","-",null,1,0]
[null,null,"-","-",null,1,0]
[null,null,"-","-",null,1,0]
[null,null,"-","-",null,1,0]
[null,null,"-","-",null,1,0]
[null,null,"-","-",null,1,0]
[null,null,"-","-",null,1,0]
[null,null,"-","-",null,1,0]
[null,null,"-","-",null,1,0]
[null,null,"-","-",null,1,0]
[null,null,"-","-",null,1,0]
[null,null,"-","-",null,1,0]
[null,null,"-","-",null,1,0]
[null,null,"-","-",null,1,0]
[null,null,"-","-",null,1,0]
[null,null,"-","-",null,1,0]
[null,null,"-","-",null,1,0]
[null,null,"-","-",null,1,0]
[null,null,"-","-",null,1,0]
[null,null,"-","-",null,1,0]
[null,null,"-","-",null,1,0]
[null,null,"-","-",null,1,0]
[null,null,"-","-",null,1,0]
[null,null,"-","-",null,1,0]
[null,null,"-","-",null,1,0]
[null,null,"-","-",null,1,0]
[null,null,"-","-",null,1,0]
[null,null,"-","-",null,1,0]
[null,null,"-","-",null,1,0]
[null,null,"-","-",null,1,0]
[null,null,"-","-",null,1,0]
[null,null,"-","-",null,1,0]
[null,null,"-","-",null,1,0]
[null,null,"-","-",null,1,0]
[null,null,"-","-",null,1,0]
[null,null,"-","-",null,1,0]
[null,null,"-","-",null,1,0]
[null,null,"-","-",null,1,0]
[null,null,"-","-",null,1,0]
[null,null,"-","-",null,1,0]
[null,null,"-","-",null,1,0]
[null,null,"-","-",null,1,0]
[null,null,"-","-",null,1,0]
[null,null,"-","-",null,1,0]
[null,null,"-","-",null,1,0]
[null,null,"-","-",null,1,0]
[null,null,"-","-",null,1,0]
[null,null,"-","-",null,1,0]

{"sheet":"Lists","index":2,"n_rows":76,"n_cols":5,"rows_kept":76,"cut":false,"hidden":false,"merged":[[1,2,2,6],[4,4,4,6],[5,4,9,6],[10,4,18,6]]}
[]
[null,null,"Pantry Stock & Shopping List     By Alex@Rocketwaveuk"]
[]
[]
[null,null,"DROP DOWN LISTS HELP",null,"General Description And Useage"]
[null,null,null,null,"This is an aid to help anyone organise and plan their Shopping and Cupboard Storage, It works in 3 main ways ,( 1) to plan your shopping needs , (2) to organise your cupboards, (3) to help you when you shop.  PLEASE NOTE ! You cannot Edit \"Shopping Products\" Only Edit \"Stock List\""]
[null,null,"Shops"]
[null,null,"-"]
[null,null,"Aldi"]
[null,null,"Asda"]
[null,null,"Barclays",null,"You Can use it just as a shopping list by setting restock levels to all zero`s and stock to 1 or zero if you require that item. Or for full use then use restock levels and Stock to the amount you have  in  your cupboards,   this way  you  can always  tell  the amounts you have used so far.  and can plan your meals even when not at home      The restock levels will tell you when you need to buy that item when shopping but using the Shop filter set to Zero and the Available From sorted Assending.                        If You Require Help Contact alex@rocketwaveuk.com"]
[null,null,"Butchers"]
[null,null,"Chemist"]
[null,null,"Co-Op"]
[null,null,"Farm Shop"]
[null,null,"Lidl"]
[null,null,"Market"]
[null,null,"Post Office"]
[null,null,"Sainsbury"]
[null,null,"The Spice Rack"]
[null,null,"Tesco"]
[null,null,"Toms Bakery"]
[]
[]
[null,null,"Grams"]
[null,null,"-"]
[null,null,5]
[null,null,10]
[null,null,25]
[null,null,30]
[null,null,50]
[null,null,100]
[null,null,200]
[null,null,210]
[null,null,300]
[null,null,320]
[null,null,400]
[null,null,500]
[null,null,600]
[null,null,750]
[null,null,1000]
[null,null,2000]
[null,null,3000]
[null,null,5000]
[]
[]
[null,null,"Mltr"]
[null,null,"-"]
[null,null,5]
[null,null,10]
[null,null,50]
[null,null,100]
[null,null,200]
[null,null,250]
[null,null,300]
[null,null,500]
[null,null,720]
[null,null,1000]
[null,null,2000]
[null,null,4000]
[null,null,5000]
[]
[]
[null,null,"Location"]
[null,null,"-"]
[null,null,"Bathroom"]
[null,null,"Cupboard 1"]
[null,null,"Cupboard 2"]
[null,null,"Cupboard 3"]
[null,null,"Cupboard 4"]
[null,null,"Cupboard 5"]
[null,null,"Freezer"]
[null,null,"Fridge"]
[null,null,"Garage Shed"]
[null,null,"Pantry"]
[null,null,"Purse Wallet"]